BEGIN:VCALENDAR
VERSION:2.0
PRODID:-//81.201.148.31//NONSGML kigkonsult.se iCalcreator 2.41.92//
CALSCALE:GREGORIAN
METHOD:PUBLISH
UID:63626633-3565-4432-a132-376236666661
X-WR-CALNAME:KOKOS IMPORT Theatertermine
X-WR-CALDESC:
X-WR-TIMEZONE:Europe/Berlin
BEGIN:VEVENT
UID:36313235-3635-4530-b366-383433623138
DTSTAMP:20260420T114035Z
DESCRIPTION:
DTSTART:20260324T120000
DTEND:20260324T130000
SUMMARY:Wort & Orgelklang
END:VEVENT
END:VCALENDAR
