BEGIN:VCALENDAR
VERSION:2.0
PRODID:-//81.201.148.31//NONSGML kigkonsult.se iCalcreator 2.41.92//
CALSCALE:GREGORIAN
METHOD:PUBLISH
UID:65326264-3435-4136-b031-623334386436
X-WR-CALNAME:KOKOS IMPORT Theatertermine
X-WR-CALDESC:
X-WR-TIMEZONE:Europe/Berlin
BEGIN:VEVENT
UID:30336432-3232-4430-b136-333337623063
DTSTAMP:20260420T101455Z
DESCRIPTION:
DTSTART:20260325T120000
DTEND:20260325T130000
SUMMARY:Wort & Orgelklang
END:VEVENT
END:VCALENDAR
