BEGIN:VCALENDAR
VERSION:2.0
PRODID:-//81.201.148.31//NONSGML kigkonsult.se iCalcreator 2.41.92//
CALSCALE:GREGORIAN
METHOD:PUBLISH
UID:30313566-3639-4334-b035-353039633131
X-WR-CALNAME:KOKOS IMPORT Theatertermine
X-WR-CALDESC:
X-WR-TIMEZONE:Europe/Berlin
BEGIN:VEVENT
UID:31346139-3637-4564-a232-346535366437
DTSTAMP:20260421T060026Z
DESCRIPTION:
DTSTART:20260326T120000
DTEND:20260326T130000
SUMMARY:Wort & Orgelklang
END:VEVENT
END:VCALENDAR
