BEGIN:VCALENDAR
VERSION:2.0
PRODID:-//81.201.148.31//NONSGML kigkonsult.se iCalcreator 2.41.92//
CALSCALE:GREGORIAN
METHOD:PUBLISH
UID:30373838-3734-4361-b632-353731313137
X-WR-CALNAME:KOKOS IMPORT Theatertermine
X-WR-CALDESC:
X-WR-TIMEZONE:Europe/Berlin
BEGIN:VEVENT
UID:32373034-3161-4262-a637-646431313463
DTSTAMP:20260420T154334Z
DESCRIPTION:
DTSTART:20260328T120000
DTEND:20260328T130000
SUMMARY:Wort & Orgelklang
END:VEVENT
END:VCALENDAR
