BEGIN:VCALENDAR
VERSION:2.0
PRODID:-//81.201.148.31//NONSGML kigkonsult.se iCalcreator 2.41.92//
CALSCALE:GREGORIAN
METHOD:PUBLISH
UID:31363634-3462-4562-a132-616530326535
X-WR-CALNAME:KOKOS IMPORT Theatertermine
X-WR-CALDESC:
X-WR-TIMEZONE:Europe/Berlin
BEGIN:VEVENT
UID:30316239-3861-4362-a364-313234333436
DTSTAMP:20260420T190154Z
DESCRIPTION:
DTSTART:20260330T120000
DTEND:20260330T130000
SUMMARY:Wort & Orgelklang
END:VEVENT
END:VCALENDAR
