BEGIN:VCALENDAR
VERSION:2.0
PRODID:-//81.201.148.31//NONSGML kigkonsult.se iCalcreator 2.41.92//
CALSCALE:GREGORIAN
METHOD:PUBLISH
UID:63373562-6661-4837-b263-613266666666
X-WR-CALNAME:KOKOS IMPORT Theatertermine
X-WR-CALDESC:
X-WR-TIMEZONE:Europe/Berlin
BEGIN:VEVENT
UID:66373335-3166-4333-a636-613663303266
DTSTAMP:20260421T014244Z
DESCRIPTION:
DTSTART:20260331T120000
DTEND:20260331T130000
SUMMARY:Wort & Orgelklang
END:VEVENT
END:VCALENDAR
