BEGIN:VCALENDAR
VERSION:2.0
PRODID:-//81.201.148.31//NONSGML kigkonsult.se iCalcreator 2.41.92//
CALSCALE:GREGORIAN
METHOD:PUBLISH
UID:33666531-6262-4866-b534-646336396134
X-WR-CALNAME:KOKOS IMPORT Theatertermine
X-WR-CALDESC:
X-WR-TIMEZONE:Europe/Berlin
BEGIN:VEVENT
UID:66333139-6230-4732-b233-393864363231
DTSTAMP:20260421T055714Z
DESCRIPTION:
DTSTART:20260401T120000
DTEND:20260401T130000
SUMMARY:Wort & Orgelklang
END:VEVENT
END:VCALENDAR
