BEGIN:VCALENDAR
VERSION:2.0
PRODID:-//81.201.148.31//NONSGML kigkonsult.se iCalcreator 2.41.92//
CALSCALE:GREGORIAN
METHOD:PUBLISH
UID:65373562-6562-4732-a338-386665343131
X-WR-CALNAME:KOKOS IMPORT Theatertermine
X-WR-CALDESC:
X-WR-TIMEZONE:Europe/Berlin
BEGIN:VEVENT
UID:66663765-6266-4637-b933-623831626539
DTSTAMP:20260421T055857Z
DESCRIPTION:
DTSTART:20260402T120000
DTEND:20260402T130000
SUMMARY:Wort & Orgelklang
END:VEVENT
END:VCALENDAR
