BEGIN:VCALENDAR
VERSION:2.0
PRODID:-//81.201.148.31//NONSGML kigkonsult.se iCalcreator 2.41.92//
CALSCALE:GREGORIAN
METHOD:PUBLISH
UID:31323237-3834-4432-a131-623430616535
X-WR-CALNAME:KOKOS IMPORT Theatertermine
X-WR-CALDESC:
X-WR-TIMEZONE:Europe/Berlin
BEGIN:VEVENT
UID:38346461-3539-4231-a533-366236646230
DTSTAMP:20260421T060123Z
DESCRIPTION:
DTSTART:20260404T120000
DTEND:20260404T130000
SUMMARY:Wort & Orgelklang
END:VEVENT
END:VCALENDAR
