BEGIN:VCALENDAR
VERSION:2.0
PRODID:-//81.201.148.31//NONSGML kigkonsult.se iCalcreator 2.41.92//
CALSCALE:GREGORIAN
METHOD:PUBLISH
UID:37353031-3636-4933-b664-363361313137
X-WR-CALNAME:KOKOS IMPORT Theatertermine
X-WR-CALDESC:
X-WR-TIMEZONE:Europe/Berlin
BEGIN:VEVENT
UID:30343933-6632-4864-b466-643764636539
DTSTAMP:20260421T073930Z
DESCRIPTION:
DTSTART:20260407T120000
DTEND:20260407T130000
SUMMARY:Wort & Orgelklang
END:VEVENT
END:VCALENDAR
