BEGIN:VCALENDAR
VERSION:2.0
PRODID:-//81.201.148.31//NONSGML kigkonsult.se iCalcreator 2.41.92//
CALSCALE:GREGORIAN
METHOD:PUBLISH
UID:65613561-3033-4134-a538-616165653234
X-WR-CALNAME:KOKOS IMPORT Theatertermine
X-WR-CALDESC:
X-WR-TIMEZONE:Europe/Berlin
BEGIN:VEVENT
UID:33386661-6434-4535-b435-393231633063
DTSTAMP:20260421T073817Z
DESCRIPTION:
DTSTART:20260408T120000
DTEND:20260408T130000
SUMMARY:Wort & Orgelklang
END:VEVENT
END:VCALENDAR
