BEGIN:VCALENDAR
VERSION:2.0
PRODID:-//81.201.148.31//NONSGML kigkonsult.se iCalcreator 2.41.92//
CALSCALE:GREGORIAN
METHOD:PUBLISH
UID:62383139-3733-4466-b465-663433643034
X-WR-CALNAME:KOKOS IMPORT Theatertermine
X-WR-CALDESC:
X-WR-TIMEZONE:Europe/Berlin
BEGIN:VEVENT
UID:63343034-6531-4239-b165-303634336536
DTSTAMP:20260421T055954Z
DESCRIPTION:
DTSTART:20260409T120000
DTEND:20260409T130000
SUMMARY:Wort & Orgelklang
END:VEVENT
END:VCALENDAR
