BEGIN:VCALENDAR
VERSION:2.0
PRODID:-//81.201.148.31//NONSGML kigkonsult.se iCalcreator 2.41.92//
CALSCALE:GREGORIAN
METHOD:PUBLISH
UID:39396236-3430-4963-b461-666539323734
X-WR-CALNAME:KOKOS IMPORT Theatertermine
X-WR-CALDESC:
X-WR-TIMEZONE:Europe/Berlin
BEGIN:VEVENT
UID:66633363-6562-4964-b036-326465663763
DTSTAMP:20260421T090235Z
DESCRIPTION:
DTSTART:20260411T120000
DTEND:20260411T130000
SUMMARY:Wort & Orgelklang
END:VEVENT
END:VCALENDAR
