BEGIN:VCALENDAR
VERSION:2.0
PRODID:-//81.201.148.31//NONSGML kigkonsult.se iCalcreator 2.41.92//
CALSCALE:GREGORIAN
METHOD:PUBLISH
UID:63663337-3464-4032-a463-316564336362
X-WR-CALNAME:KOKOS IMPORT Theatertermine
X-WR-CALDESC:
X-WR-TIMEZONE:Europe/Berlin
BEGIN:VEVENT
UID:33363038-6261-4264-a135-346135333861
DTSTAMP:20260421T095817Z
DESCRIPTION:
DTSTART:20260413T120000
DTEND:20260413T130000
SUMMARY:Wort & Orgelklang
END:VEVENT
END:VCALENDAR
