BEGIN:VCALENDAR
VERSION:2.0
PRODID:-//81.201.148.31//NONSGML kigkonsult.se iCalcreator 2.41.92//
CALSCALE:GREGORIAN
METHOD:PUBLISH
UID:35386235-3432-4137-b631-306465323063
X-WR-CALNAME:KOKOS IMPORT Theatertermine
X-WR-CALDESC:
X-WR-TIMEZONE:Europe/Berlin
BEGIN:VEVENT
UID:34313436-3139-4130-b038-666532313066
DTSTAMP:20260421T194518Z
DESCRIPTION:
DTSTART:20260414T120000
DTEND:20260414T130000
SUMMARY:Wort & Orgelklang
END:VEVENT
END:VCALENDAR
