BEGIN:VCALENDAR
VERSION:2.0
PRODID:-//81.201.148.31//NONSGML kigkonsult.se iCalcreator 2.41.92//
CALSCALE:GREGORIAN
METHOD:PUBLISH
UID:39303165-3864-4139-a635-363266656333
X-WR-CALNAME:KOKOS IMPORT Theatertermine
X-WR-CALDESC:
X-WR-TIMEZONE:Europe/Berlin
BEGIN:VEVENT
UID:64383739-6565-4232-a138-356636303239
DTSTAMP:20260421T174740Z
DESCRIPTION:
DTSTART:20260415T120000
DTEND:20260415T130000
SUMMARY:Wort & Orgelklang
END:VEVENT
END:VCALENDAR
