BEGIN:VCALENDAR
VERSION:2.0
PRODID:-//81.201.148.31//NONSGML kigkonsult.se iCalcreator 2.41.92//
CALSCALE:GREGORIAN
METHOD:PUBLISH
UID:37313434-6264-4137-b437-613539313562
X-WR-CALNAME:KOKOS IMPORT Theatertermine
X-WR-CALDESC:
X-WR-TIMEZONE:Europe/Berlin
BEGIN:VEVENT
UID:37623239-6236-4935-a463-623264316263
DTSTAMP:20260419T132857Z
DESCRIPTION:
DTSTART:20260421T120000
DTEND:20260421T130000
SUMMARY:Wort & Orgelklang
END:VEVENT
END:VCALENDAR
