BEGIN:VCALENDAR
VERSION:2.0
PRODID:-//81.201.148.31//NONSGML kigkonsult.se iCalcreator 2.41.92//
CALSCALE:GREGORIAN
METHOD:PUBLISH
UID:31616565-6337-4331-a632-343031393336
X-WR-CALNAME:KOKOS IMPORT Theatertermine
X-WR-CALDESC:
X-WR-TIMEZONE:Europe/Berlin
BEGIN:VEVENT
UID:64303036-3939-4139-b436-356564353137
DTSTAMP:20260419T152025Z
DESCRIPTION:
DTSTART:20260422T120000
DTEND:20260422T130000
SUMMARY:Wort & Orgelklang
END:VEVENT
END:VCALENDAR
