BEGIN:VCALENDAR
VERSION:2.0
PRODID:-//81.201.148.31//NONSGML kigkonsult.se iCalcreator 2.41.92//
CALSCALE:GREGORIAN
METHOD:PUBLISH
UID:35396665-6434-4231-a163-336236313031
X-WR-CALNAME:KOKOS IMPORT Theatertermine
X-WR-CALDESC:
X-WR-TIMEZONE:Europe/Berlin
BEGIN:VEVENT
UID:64616564-6331-4134-b263-653661633861
DTSTAMP:20260420T012352Z
DESCRIPTION:
DTSTART:20260428T120000
DTEND:20260428T130000
SUMMARY:Wort & Orgelklang
END:VEVENT
END:VCALENDAR
