BEGIN:VCALENDAR
VERSION:2.0
PRODID:-//81.201.148.31//NONSGML kigkonsult.se iCalcreator 2.41.92//
CALSCALE:GREGORIAN
METHOD:PUBLISH
UID:36643835-3239-4066-a538-633265623438
X-WR-CALNAME:KOKOS IMPORT Theatertermine
X-WR-CALDESC:
X-WR-TIMEZONE:Europe/Berlin
BEGIN:VEVENT
UID:39666638-6139-4235-b766-353536393839
DTSTAMP:20260420T044229Z
DESCRIPTION:
DTSTART:20260429T120000
DTEND:20260429T130000
SUMMARY:Wort & Orgelklang
END:VEVENT
END:VCALENDAR
