BEGIN:VCALENDAR
VERSION:2.0
PRODID:-//81.201.148.31//NONSGML kigkonsult.se iCalcreator 2.41.92//
CALSCALE:GREGORIAN
METHOD:PUBLISH
UID:39393764-3862-4230-a261-633231653339
X-WR-CALNAME:KOKOS IMPORT Theatertermine
X-WR-CALDESC:
X-WR-TIMEZONE:Europe/Berlin
BEGIN:VEVENT
UID:38393539-6630-4762-b635-653932363237
DTSTAMP:20260420T045032Z
DESCRIPTION:
DTSTART:20260430T120000
DTEND:20260430T130000
SUMMARY:Wort & Orgelklang
END:VEVENT
END:VCALENDAR
