BEGIN:VCALENDAR
VERSION:2.0
PRODID:-//81.201.148.31//NONSGML kigkonsult.se iCalcreator 2.41.92//
CALSCALE:GREGORIAN
METHOD:PUBLISH
UID:63643866-3638-4765-b161-623238393466
X-WR-CALNAME:KOKOS IMPORT Theatertermine
X-WR-CALDESC:
X-WR-TIMEZONE:Europe/Berlin
BEGIN:VEVENT
UID:64343532-3832-4161-b739-316230383035
DTSTAMP:20260420T110856Z
DESCRIPTION:
DTSTART:20260504T120000
DTEND:20260504T130000
SUMMARY:Wort & Orgelklang
END:VEVENT
END:VCALENDAR
