BEGIN:VCALENDAR
VERSION:2.0
PRODID:-//81.201.148.31//NONSGML kigkonsult.se iCalcreator 2.41.92//
CALSCALE:GREGORIAN
METHOD:PUBLISH
UID:38356466-3861-4432-a332-346432333764
X-WR-CALNAME:KOKOS IMPORT Theatertermine
X-WR-CALDESC:
X-WR-TIMEZONE:Europe/Berlin
BEGIN:VEVENT
UID:33653630-3266-4136-a238-383565663637
DTSTAMP:20260420T123111Z
DESCRIPTION:
DTSTART:20260505T120000
DTEND:20260505T130000
SUMMARY:Wort & Orgelklang
END:VEVENT
END:VCALENDAR
