BEGIN:VCALENDAR
VERSION:2.0
PRODID:-//81.201.148.31//NONSGML kigkonsult.se iCalcreator 2.41.92//
CALSCALE:GREGORIAN
METHOD:PUBLISH
UID:36386133-3338-4161-b763-623561383433
X-WR-CALNAME:KOKOS IMPORT Theatertermine
X-WR-CALDESC:
X-WR-TIMEZONE:Europe/Berlin
BEGIN:VEVENT
UID:31656637-6438-4431-b132-643431323930
DTSTAMP:20260420T135823Z
DESCRIPTION:
DTSTART:20260506T120000
DTEND:20260506T130000
SUMMARY:Wort & Orgelklang
END:VEVENT
END:VCALENDAR
