BEGIN:VCALENDAR
VERSION:2.0
PRODID:-//81.201.148.31//NONSGML kigkonsult.se iCalcreator 2.41.92//
CALSCALE:GREGORIAN
METHOD:PUBLISH
UID:31386333-6631-4866-a331-353561636131
X-WR-CALNAME:KOKOS IMPORT Theatertermine
X-WR-CALDESC:
X-WR-TIMEZONE:Europe/Berlin
BEGIN:VEVENT
UID:62663866-6330-4263-b065-346264653533
DTSTAMP:20260420T172931Z
DESCRIPTION:
DTSTART:20260509T120000
DTEND:20260509T130000
SUMMARY:Wort & Orgelklang
END:VEVENT
END:VCALENDAR
