BEGIN:VCALENDAR
VERSION:2.0
PRODID:-//81.201.148.31//NONSGML kigkonsult.se iCalcreator 2.41.92//
CALSCALE:GREGORIAN
METHOD:PUBLISH
UID:36326631-3432-4336-b765-376534656333
X-WR-CALNAME:KOKOS IMPORT Theatertermine
X-WR-CALDESC:
X-WR-TIMEZONE:Europe/Berlin
BEGIN:VEVENT
UID:31336132-3938-4536-a635-356430353935
DTSTAMP:20260420T210511Z
DESCRIPTION:
DTSTART:20260512T120000
DTEND:20260512T130000
SUMMARY:Wort & Orgelklang
END:VEVENT
END:VCALENDAR
