BEGIN:VCALENDAR
VERSION:2.0
PRODID:-//81.201.148.31//NONSGML kigkonsult.se iCalcreator 2.41.92//
CALSCALE:GREGORIAN
METHOD:PUBLISH
UID:36343139-6562-4232-a233-373736396165
X-WR-CALNAME:KOKOS IMPORT Theatertermine
X-WR-CALDESC:
X-WR-TIMEZONE:Europe/Berlin
BEGIN:VEVENT
UID:32626634-6161-4137-b662-343733326533
DTSTAMP:20260423T105420Z
DESCRIPTION:
DTSTART:20260518T120000
DTEND:20260518T130000
SUMMARY:Wort & Orgelklang
END:VEVENT
END:VCALENDAR
