BEGIN:VCALENDAR
VERSION:2.0
PRODID:-//81.201.148.31//NONSGML kigkonsult.se iCalcreator 2.41.92//
CALSCALE:GREGORIAN
METHOD:PUBLISH
UID:34306230-6330-4365-b930-353331656162
X-WR-CALNAME:KOKOS IMPORT Theatertermine
X-WR-CALDESC:
X-WR-TIMEZONE:Europe/Berlin
BEGIN:VEVENT
UID:34316539-3730-4333-b532-323737636537
DTSTAMP:20260423T094705Z
DESCRIPTION:
DTSTART:20260521T120000
DTEND:20260521T130000
SUMMARY:Wort & Orgelklang
END:VEVENT
END:VCALENDAR
