BEGIN:VCALENDAR
VERSION:2.0
PRODID:-//81.201.148.31//NONSGML kigkonsult.se iCalcreator 2.41.92//
CALSCALE:GREGORIAN
METHOD:PUBLISH
UID:39663364-3536-4637-a130-386664643436
X-WR-CALNAME:KOKOS IMPORT Theatertermine
X-WR-CALDESC:
X-WR-TIMEZONE:Europe/Berlin
BEGIN:VEVENT
UID:31636566-3861-4235-b132-663261383035
DTSTAMP:20260423T105404Z
DESCRIPTION:
DTSTART:20260527T120000
DTEND:20260527T130000
SUMMARY:Wort & Orgelklang
END:VEVENT
END:VCALENDAR
