BEGIN:VCALENDAR
VERSION:2.0
PRODID:-//81.201.148.31//NONSGML kigkonsult.se iCalcreator 2.41.92//
CALSCALE:GREGORIAN
METHOD:PUBLISH
UID:31326264-6363-4565-a339-626262366662
X-WR-CALNAME:KOKOS IMPORT Theatertermine
X-WR-CALDESC:
X-WR-TIMEZONE:Europe/Berlin
BEGIN:VEVENT
UID:63373337-3533-4439-a330-343536643264
DTSTAMP:20260423T095010Z
DESCRIPTION:
DTSTART:20260528T120000
DTEND:20260528T130000
SUMMARY:Wort & Orgelklang
END:VEVENT
END:VCALENDAR
