BEGIN:VCALENDAR
VERSION:2.0
PRODID:-//81.201.148.31//NONSGML kigkonsult.se iCalcreator 2.41.92//
CALSCALE:GREGORIAN
METHOD:PUBLISH
UID:36326230-6135-4566-b261-393731646263
X-WR-CALNAME:KOKOS IMPORT Theatertermine
X-WR-CALDESC:
X-WR-TIMEZONE:Europe/Berlin
BEGIN:VEVENT
UID:36313639-6234-4232-b964-633931623862
DTSTAMP:20260423T095058Z
DESCRIPTION:
DTSTART:20260530T120000
DTEND:20260530T130000
SUMMARY:Wort & Orgelklang
END:VEVENT
END:VCALENDAR
