BEGIN:VCALENDAR
VERSION:2.0
PRODID:-//81.201.148.31//NONSGML kigkonsult.se iCalcreator 2.41.92//
CALSCALE:GREGORIAN
METHOD:PUBLISH
UID:35386263-3030-4639-a431-326534306634
X-WR-CALNAME:KOKOS IMPORT Theatertermine
X-WR-CALDESC:
X-WR-TIMEZONE:Europe/Berlin
BEGIN:VEVENT
UID:62353437-3837-4139-a331-343462633137
DTSTAMP:20260423T094205Z
DESCRIPTION:
DTSTART:20260601T120000
DTEND:20260601T130000
SUMMARY:Wort & Orgelklang
END:VEVENT
END:VCALENDAR
