BEGIN:VCALENDAR
VERSION:2.0
PRODID:-//81.201.148.31//NONSGML kigkonsult.se iCalcreator 2.41.92//
CALSCALE:GREGORIAN
METHOD:PUBLISH
UID:30626237-6137-4264-b134-366666636331
X-WR-CALNAME:KOKOS IMPORT Theatertermine
X-WR-CALDESC:
X-WR-TIMEZONE:Europe/Berlin
BEGIN:VEVENT
UID:36643131-6364-4462-a430-363762613334
DTSTAMP:20260423T105608Z
DESCRIPTION:
DTSTART:20260602T120000
DTEND:20260602T130000
SUMMARY:Wort & Orgelklang
END:VEVENT
END:VCALENDAR
