BEGIN:VCALENDAR
VERSION:2.0
PRODID:-//81.201.148.31//NONSGML kigkonsult.se iCalcreator 2.41.92//
CALSCALE:GREGORIAN
METHOD:PUBLISH
UID:35336234-6534-4132-a438-326566306564
X-WR-CALNAME:KOKOS IMPORT Theatertermine
X-WR-CALDESC:
X-WR-TIMEZONE:Europe/Berlin
BEGIN:VEVENT
UID:65363661-6264-4466-b733-323239613133
DTSTAMP:20260423T105653Z
DESCRIPTION:
DTSTART:20260603T120000
DTEND:20260603T130000
SUMMARY:Wort & Orgelklang
END:VEVENT
END:VCALENDAR
