BEGIN:VCALENDAR
VERSION:2.0
PRODID:-//81.201.148.31//NONSGML kigkonsult.se iCalcreator 2.41.92//
CALSCALE:GREGORIAN
METHOD:PUBLISH
UID:66626564-3733-4065-b765-383464323731
X-WR-CALNAME:KOKOS IMPORT Theatertermine
X-WR-CALDESC:
X-WR-TIMEZONE:Europe/Berlin
BEGIN:VEVENT
UID:39373066-6534-4939-b830-336330663263
DTSTAMP:20260423T105327Z
DESCRIPTION:
DTSTART:20260604T120000
DTEND:20260604T130000
SUMMARY:Wort & Orgelklang
END:VEVENT
END:VCALENDAR
