BEGIN:VCALENDAR
VERSION:2.0
PRODID:-//81.201.148.31//NONSGML kigkonsult.se iCalcreator 2.41.92//
CALSCALE:GREGORIAN
METHOD:PUBLISH
UID:39313238-6161-4734-a261-346362386632
X-WR-CALNAME:KOKOS IMPORT Theatertermine
X-WR-CALDESC:
X-WR-TIMEZONE:Europe/Berlin
BEGIN:VEVENT
UID:39656665-3831-4165-a438-386438613731
DTSTAMP:20260423T094756Z
DESCRIPTION:
DTSTART:20260608T120000
DTEND:20260608T130000
SUMMARY:Wort & Orgelklang
END:VEVENT
END:VCALENDAR
