BEGIN:VCALENDAR
VERSION:2.0
PRODID:-//81.201.148.31//NONSGML kigkonsult.se iCalcreator 2.41.92//
CALSCALE:GREGORIAN
METHOD:PUBLISH
UID:63633238-6363-4935-b863-396235316436
X-WR-CALNAME:KOKOS IMPORT Theatertermine
X-WR-CALDESC:
X-WR-TIMEZONE:Europe/Berlin
BEGIN:VEVENT
UID:38646339-3061-4131-a534-356231333130
DTSTAMP:20260423T094819Z
DESCRIPTION:
DTSTART:20260609T120000
DTEND:20260609T130000
SUMMARY:Wort & Orgelklang
END:VEVENT
END:VCALENDAR
