BEGIN:VCALENDAR
VERSION:2.0
PRODID:-//81.201.148.31//NONSGML kigkonsult.se iCalcreator 2.41.92//
CALSCALE:GREGORIAN
METHOD:PUBLISH
UID:65333039-3633-4137-b164-643961643562
X-WR-CALNAME:KOKOS IMPORT Theatertermine
X-WR-CALDESC:
X-WR-TIMEZONE:Europe/Berlin
BEGIN:VEVENT
UID:30316162-3266-4363-a132-636637323563
DTSTAMP:20260423T105738Z
DESCRIPTION:
DTSTART:20260610T120000
DTEND:20260610T130000
SUMMARY:Wort & Orgelklang
END:VEVENT
END:VCALENDAR
