BEGIN:VCALENDAR
VERSION:2.0
PRODID:-//81.201.148.31//NONSGML kigkonsult.se iCalcreator 2.41.92//
CALSCALE:GREGORIAN
METHOD:PUBLISH
UID:30303630-3433-4162-a263-333164323765
X-WR-CALNAME:KOKOS IMPORT Theatertermine
X-WR-CALDESC:
X-WR-TIMEZONE:Europe/Berlin
BEGIN:VEVENT
UID:39653064-3436-4137-b365-663330613135
DTSTAMP:20260423T094038Z
DESCRIPTION:
DTSTART:20260615T120000
DTEND:20260615T130000
SUMMARY:Wort & Orgelklang
END:VEVENT
END:VCALENDAR
