BEGIN:VCALENDAR
VERSION:2.0
PRODID:-//81.201.148.31//NONSGML kigkonsult.se iCalcreator 2.41.92//
CALSCALE:GREGORIAN
METHOD:PUBLISH
UID:31343238-3337-4435-a335-306664376135
X-WR-CALNAME:KOKOS IMPORT Theatertermine
X-WR-CALDESC:
X-WR-TIMEZONE:Europe/Berlin
BEGIN:VEVENT
UID:63343866-3664-4133-a431-366163316362
DTSTAMP:20260423T094757Z
DESCRIPTION:
DTSTART:20260616T120000
DTEND:20260616T130000
SUMMARY:Wort & Orgelklang
END:VEVENT
END:VCALENDAR
