BEGIN:VCALENDAR
VERSION:2.0
PRODID:-//81.201.148.31//NONSGML kigkonsult.se iCalcreator 2.41.92//
CALSCALE:GREGORIAN
METHOD:PUBLISH
UID:37306237-6631-4137-a136-393432346163
X-WR-CALNAME:KOKOS IMPORT Theatertermine
X-WR-CALDESC:
X-WR-TIMEZONE:Europe/Berlin
BEGIN:VEVENT
UID:65323038-6338-4536-b366-396636656338
DTSTAMP:20260423T094915Z
DESCRIPTION:
DTSTART:20260617T120000
DTEND:20260617T130000
SUMMARY:Wort & Orgelklang
END:VEVENT
END:VCALENDAR
