BEGIN:VCALENDAR
VERSION:2.0
PRODID:-//81.201.148.31//NONSGML kigkonsult.se iCalcreator 2.41.92//
CALSCALE:GREGORIAN
METHOD:PUBLISH
UID:36663964-6338-4262-a535-313533363434
X-WR-CALNAME:KOKOS IMPORT Theatertermine
X-WR-CALDESC:
X-WR-TIMEZONE:Europe/Berlin
BEGIN:VEVENT
UID:37653163-3062-4131-b966-396630336538
DTSTAMP:20260423T094901Z
DESCRIPTION:
DTSTART:20260618T120000
DTEND:20260618T130000
SUMMARY:Wort & Orgelklang
END:VEVENT
END:VCALENDAR
