BEGIN:VCALENDAR
VERSION:2.0
PRODID:-//81.201.148.31//NONSGML kigkonsult.se iCalcreator 2.41.92//
CALSCALE:GREGORIAN
METHOD:PUBLISH
UID:37623134-3031-4562-b632-303064363334
X-WR-CALNAME:KOKOS IMPORT Theatertermine
X-WR-CALDESC:
X-WR-TIMEZONE:Europe/Berlin
BEGIN:VEVENT
UID:38643730-3838-4136-b338-626530623365
DTSTAMP:20260423T094050Z
DESCRIPTION:
DTSTART:20260622T120000
DTEND:20260622T130000
SUMMARY:Wort & Orgelklang
END:VEVENT
END:VCALENDAR
