BEGIN:VCALENDAR
VERSION:2.0
PRODID:-//81.201.148.31//NONSGML kigkonsult.se iCalcreator 2.41.92//
CALSCALE:GREGORIAN
METHOD:PUBLISH
UID:63353433-6539-4138-a364-303333383634
X-WR-CALNAME:KOKOS IMPORT Theatertermine
X-WR-CALDESC:
X-WR-TIMEZONE:Europe/Berlin
BEGIN:VEVENT
UID:61393535-3934-4762-b564-363437313934
DTSTAMP:20260423T094141Z
DESCRIPTION:
DTSTART:20260623T120000
DTEND:20260623T130000
SUMMARY:Wort & Orgelklang
END:VEVENT
END:VCALENDAR
