BEGIN:VCALENDAR
VERSION:2.0
PRODID:-//81.201.148.31//NONSGML kigkonsult.se iCalcreator 2.41.92//
CALSCALE:GREGORIAN
METHOD:PUBLISH
UID:64363065-6264-4061-a338-636435653131
X-WR-CALNAME:KOKOS IMPORT Theatertermine
X-WR-CALDESC:
X-WR-TIMEZONE:Europe/Berlin
BEGIN:VEVENT
UID:30626466-6162-4331-a563-633362363831
DTSTAMP:20260423T094050Z
DESCRIPTION:
DTSTART:20260624T120000
DTEND:20260624T130000
SUMMARY:Wort & Orgelklang
END:VEVENT
END:VCALENDAR
