BEGIN:VCALENDAR
VERSION:2.0
PRODID:-//81.201.148.31//NONSGML kigkonsult.se iCalcreator 2.41.92//
CALSCALE:GREGORIAN
METHOD:PUBLISH
UID:66313433-6264-4461-b036-393866343062
X-WR-CALNAME:KOKOS IMPORT Theatertermine
X-WR-CALDESC:
X-WR-TIMEZONE:Europe/Berlin
BEGIN:VEVENT
UID:33663863-6132-4263-b133-316465356335
DTSTAMP:20260423T094104Z
DESCRIPTION:
DTSTART:20260625T120000
DTEND:20260625T130000
SUMMARY:Wort & Orgelklang
END:VEVENT
END:VCALENDAR
