BEGIN:VCALENDAR
VERSION:2.0
PRODID:-//81.201.148.31//NONSGML kigkonsult.se iCalcreator 2.41.92//
CALSCALE:GREGORIAN
METHOD:PUBLISH
UID:35303165-6236-4930-b261-633634663566
X-WR-CALNAME:KOKOS IMPORT Theatertermine
X-WR-CALDESC:
X-WR-TIMEZONE:Europe/Berlin
BEGIN:VEVENT
UID:33396362-3837-4331-b637-663366343837
DTSTAMP:20260423T093944Z
DESCRIPTION:
DTSTART:20260627T120000
DTEND:20260627T130000
SUMMARY:Wort & Orgelklang
END:VEVENT
END:VCALENDAR
