BEGIN:VCALENDAR
VERSION:2.0
PRODID:-//81.201.148.31//NONSGML kigkonsult.se iCalcreator 2.41.92//
CALSCALE:GREGORIAN
METHOD:PUBLISH
UID:30323463-3361-4232-b465-643331623632
X-WR-CALNAME:KOKOS IMPORT Theatertermine
X-WR-CALDESC:
X-WR-TIMEZONE:Europe/Berlin
BEGIN:VEVENT
UID:31353139-3131-4662-b031-623132393739
DTSTAMP:20260423T094900Z
DESCRIPTION:
DTSTART:20260630T120000
DTEND:20260630T130000
SUMMARY:Wort & Orgelklang
END:VEVENT
END:VCALENDAR
