BEGIN:VCALENDAR
VERSION:2.0
PRODID:-//81.201.148.31//NONSGML kigkonsult.se iCalcreator 2.41.92//
CALSCALE:GREGORIAN
METHOD:PUBLISH
UID:62633333-3331-4437-b030-383335663232
X-WR-CALNAME:KOKOS IMPORT Theatertermine
X-WR-CALDESC:
X-WR-TIMEZONE:Europe/Berlin
BEGIN:VEVENT
UID:31396337-3638-4138-b431-306363376365
DTSTAMP:20260423T094050Z
DESCRIPTION:
DTSTART:20260702T120000
DTEND:20260702T130000
SUMMARY:Wort & Orgelklang
END:VEVENT
END:VCALENDAR
