BEGIN:VCALENDAR
VERSION:2.0
PRODID:-//81.201.148.31//NONSGML kigkonsult.se iCalcreator 2.41.92//
CALSCALE:GREGORIAN
METHOD:PUBLISH
UID:39316339-6536-4963-a231-323161626566
X-WR-CALNAME:KOKOS IMPORT Theatertermine
X-WR-CALDESC:
X-WR-TIMEZONE:Europe/Berlin
BEGIN:VEVENT
UID:62313263-3430-4533-a361-333538393263
DTSTAMP:20260423T094205Z
DESCRIPTION:
DTSTART:20260706T120000
DTEND:20260706T130000
SUMMARY:Wort & Orgelklang
END:VEVENT
END:VCALENDAR
